BEGIN:VCALENDAR
VERSION:2.0
PRODID:-//York Hills Centre for Children, Youth and Families - ECPv6.15.18//NONSGML v1.0//EN
CALSCALE:GREGORIAN
METHOD:PUBLISH
X-WR-CALNAME:York Hills Centre for Children, Youth and Families
X-ORIGINAL-URL:https://www.yorkhills.ca
X-WR-CALDESC:Events for York Hills Centre for Children, Youth and Families
REFRESH-INTERVAL;VALUE=DURATION:PT1H
X-Robots-Tag:noindex
X-PUBLISHED-TTL:PT1H
BEGIN:VTIMEZONE
TZID:America/Toronto
BEGIN:DAYLIGHT
TZOFFSETFROM:-0500
TZOFFSETTO:-0400
TZNAME:EDT
DTSTART:20250309T070000
END:DAYLIGHT
BEGIN:STANDARD
TZOFFSETFROM:-0400
TZOFFSETTO:-0500
TZNAME:EST
DTSTART:20251102T060000
END:STANDARD
BEGIN:DAYLIGHT
TZOFFSETFROM:-0500
TZOFFSETTO:-0400
TZNAME:EDT
DTSTART:20260308T070000
END:DAYLIGHT
BEGIN:STANDARD
TZOFFSETFROM:-0400
TZOFFSETTO:-0500
TZNAME:EST
DTSTART:20261101T060000
END:STANDARD
BEGIN:DAYLIGHT
TZOFFSETFROM:-0500
TZOFFSETTO:-0400
TZNAME:EDT
DTSTART:20270314T070000
END:DAYLIGHT
BEGIN:STANDARD
TZOFFSETFROM:-0400
TZOFFSETTO:-0500
TZNAME:EST
DTSTART:20271107T060000
END:STANDARD
END:VTIMEZONE
BEGIN:VEVENT
DTSTART;TZID=America/Toronto:20260126T183000
DTEND;TZID=America/Toronto:20260126T203000
DTSTAMP:20260423T215538
CREATED:20251201T145056Z
LAST-MODIFIED:20260127T040641Z
UID:46399-1769452200-1769459400@www.yorkhills.ca
SUMMARY:Triple P Seminar #2 - Raising Confident Capable Children (Winter)
DESCRIPTION:Triple P Seminar #2 – Raising Confident Competent Children\n\n\nPresented by: Positive Parenting Association Ontario \nPower of Positive Parenting seminars are a  series of three workshops for parents of children birth to 12 years of age. Kids don’t come with an instruction manual! Many familiar parenting problems have very simple solutions that can be applied with some effort and focus.  Triple P’s easy-to-understand and practical strategies have been shown to help families in all types of situations.  \nSeminar # 2 – Raising Confident and Competent Children  \nThis seminar focuses on encouraging respect and cooperation\, learning to be independent\, developing healthy self esteem and learning how to be a good problem solver.  \n**This is a 3-part seminar. Participation in all 3 dates is strongly recommended.**
URL:https://www.yorkhills.ca/event/triple-p-seminar-2-raising-confident-capable-children-winter/
ATTACH;FMTTYPE=image/jpeg:https://www.yorkhills.ca/wp-content/uploads/2025/12/348b18741a79d8e54df0dc4a8c553f5d.jpg
END:VEVENT
END:VCALENDAR