BEGIN:VCALENDAR
VERSION:2.0
PRODID:-//York Hills Centre for Children, Youth and Families - ECPv6.15.18//NONSGML v1.0//EN
CALSCALE:GREGORIAN
METHOD:PUBLISH
X-WR-CALNAME:York Hills Centre for Children, Youth and Families
X-ORIGINAL-URL:https://www.yorkhills.ca
X-WR-CALDESC:Events for York Hills Centre for Children, Youth and Families
REFRESH-INTERVAL;VALUE=DURATION:PT1H
X-Robots-Tag:noindex
X-PUBLISHED-TTL:PT1H
BEGIN:VTIMEZONE
TZID:America/Toronto
BEGIN:DAYLIGHT
TZOFFSETFROM:-0500
TZOFFSETTO:-0400
TZNAME:EDT
DTSTART:20250309T070000
END:DAYLIGHT
BEGIN:STANDARD
TZOFFSETFROM:-0400
TZOFFSETTO:-0500
TZNAME:EST
DTSTART:20251102T060000
END:STANDARD
BEGIN:DAYLIGHT
TZOFFSETFROM:-0500
TZOFFSETTO:-0400
TZNAME:EDT
DTSTART:20260308T070000
END:DAYLIGHT
BEGIN:STANDARD
TZOFFSETFROM:-0400
TZOFFSETTO:-0500
TZNAME:EST
DTSTART:20261101T060000
END:STANDARD
BEGIN:DAYLIGHT
TZOFFSETFROM:-0500
TZOFFSETTO:-0400
TZNAME:EDT
DTSTART:20270314T070000
END:DAYLIGHT
BEGIN:STANDARD
TZOFFSETFROM:-0400
TZOFFSETTO:-0500
TZNAME:EST
DTSTART:20271107T060000
END:STANDARD
END:VTIMEZONE
BEGIN:VEVENT
DTSTART;TZID=America/Toronto:20260211T183000
DTEND;TZID=America/Toronto:20260211T203000
DTSTAMP:20260424T011908
CREATED:20251201T145105Z
LAST-MODIFIED:20260212T045014Z
UID:46407-1770834600-1770841800@www.yorkhills.ca
SUMMARY:Understanding and Managing Challenging Behaviours (Winter)
DESCRIPTION:Understanding and Managing Challenging Behaviours\n\n\nPresented by: Vanessa Biscardi and TBD(Child and Family Therapists) \nUnderstanding challenging behaviours and where they stem from is the first step to being able to better manage them. This workshop is for parents/caregivers of youth 12 years and older\, and will focus on how behaviours function in a teen’s brain. We will discuss and demonstrate the use of tools/strategies to manage challenging behaviours\, and how to improve parent/teen relationships.
URL:https://www.yorkhills.ca/event/understanding-and-managing-challenging-behaviours-winter/
ATTACH;FMTTYPE=image/jpeg:https://www.yorkhills.ca/wp-content/uploads/2025/05/2be843d736931b0f8b0fb798db39e265.jpg
END:VEVENT
END:VCALENDAR