BEGIN:VCALENDAR
VERSION:2.0
PRODID:-//York Hills Centre for Children, Youth and Families - ECPv6.15.18//NONSGML v1.0//EN
CALSCALE:GREGORIAN
METHOD:PUBLISH
X-WR-CALNAME:York Hills Centre for Children, Youth and Families
X-ORIGINAL-URL:https://www.yorkhills.ca
X-WR-CALDESC:Events for York Hills Centre for Children, Youth and Families
REFRESH-INTERVAL;VALUE=DURATION:PT1H
X-Robots-Tag:noindex
X-PUBLISHED-TTL:PT1H
BEGIN:VTIMEZONE
TZID:America/Toronto
BEGIN:DAYLIGHT
TZOFFSETFROM:-0500
TZOFFSETTO:-0400
TZNAME:EDT
DTSTART:20250309T070000
END:DAYLIGHT
BEGIN:STANDARD
TZOFFSETFROM:-0400
TZOFFSETTO:-0500
TZNAME:EST
DTSTART:20251102T060000
END:STANDARD
BEGIN:DAYLIGHT
TZOFFSETFROM:-0500
TZOFFSETTO:-0400
TZNAME:EDT
DTSTART:20260308T070000
END:DAYLIGHT
BEGIN:STANDARD
TZOFFSETFROM:-0400
TZOFFSETTO:-0500
TZNAME:EST
DTSTART:20261101T060000
END:STANDARD
BEGIN:DAYLIGHT
TZOFFSETFROM:-0500
TZOFFSETTO:-0400
TZNAME:EDT
DTSTART:20270314T070000
END:DAYLIGHT
BEGIN:STANDARD
TZOFFSETFROM:-0400
TZOFFSETTO:-0500
TZNAME:EST
DTSTART:20271107T060000
END:STANDARD
END:VTIMEZONE
BEGIN:VEVENT
DTSTART;TZID=America/Toronto:20260217T183000
DTEND;TZID=America/Toronto:20260217T203000
DTSTAMP:20260423T215303
CREATED:20251201T145106Z
LAST-MODIFIED:20260218T043750Z
UID:46408-1771353000-1771360200@www.yorkhills.ca
SUMMARY:Brain and Behaviour Development in Children with ASD (Winter)
DESCRIPTION:Understanding The Brain and Behaviour Development in Children with Autism Spectrum Disorder\n\n\nPresented by: Neil Walker  (Autism Consultant)  \nThis webinar will assist in understanding the brain development of children with Autism Spectrum Disorder\, and will explain the cause of behaviours commonly experienced. Participants will learn strategies that can be used to support and manage the challenges that children with ASD often face.
URL:https://www.yorkhills.ca/event/brain-and-behaviour-development-in-children-with-asd-winter/
ATTACH;FMTTYPE=image/jpeg:https://www.yorkhills.ca/wp-content/uploads/2025/12/ca789f45cf013429c1bc795883874b51.jpg
END:VEVENT
END:VCALENDAR