BEGIN:VCALENDAR
VERSION:2.0
PRODID:-//York Hills Centre for Children, Youth and Families - ECPv6.15.18//NONSGML v1.0//EN
CALSCALE:GREGORIAN
METHOD:PUBLISH
X-ORIGINAL-URL:https://www.yorkhills.ca
X-WR-CALDESC:Events for York Hills Centre for Children, Youth and Families
REFRESH-INTERVAL;VALUE=DURATION:PT1H
X-Robots-Tag:noindex
X-PUBLISHED-TTL:PT1H
BEGIN:VTIMEZONE
TZID:America/Toronto
BEGIN:DAYLIGHT
TZOFFSETFROM:-0500
TZOFFSETTO:-0400
TZNAME:EDT
DTSTART:20250309T070000
END:DAYLIGHT
BEGIN:STANDARD
TZOFFSETFROM:-0400
TZOFFSETTO:-0500
TZNAME:EST
DTSTART:20251102T060000
END:STANDARD
BEGIN:DAYLIGHT
TZOFFSETFROM:-0500
TZOFFSETTO:-0400
TZNAME:EDT
DTSTART:20260308T070000
END:DAYLIGHT
BEGIN:STANDARD
TZOFFSETFROM:-0400
TZOFFSETTO:-0500
TZNAME:EST
DTSTART:20261101T060000
END:STANDARD
BEGIN:DAYLIGHT
TZOFFSETFROM:-0500
TZOFFSETTO:-0400
TZNAME:EDT
DTSTART:20270314T070000
END:DAYLIGHT
BEGIN:STANDARD
TZOFFSETFROM:-0400
TZOFFSETTO:-0500
TZNAME:EST
DTSTART:20271107T060000
END:STANDARD
END:VTIMEZONE
BEGIN:VEVENT
DTSTART;TZID=America/Toronto:20260218T183000
DTEND;TZID=America/Toronto:20260218T200000
DTSTAMP:20260424T010126
CREATED:20251201T145108Z
LAST-MODIFIED:20260219T010508Z
UID:46410-1771439400-1771444800@www.yorkhills.ca
SUMMARY:Exploring and Understanding the Inattentive Brain (Winter)
DESCRIPTION:Unwrapping the Gifts of a Distracted Mind – Part 2  Exploring and Understanding the Inattentive Brain\n\n\nPresented by: Sarah Clarke and Shannon Miller (PATH Program) \nThree-part series on ADHD \n“Unwrapping the gifts of a distracted mind” a series of webinars to help you better understand the person you love. The more you know\, the better able you will be equipped to build on the strengths and unique traits\, as well as tackle areas of challenge or lagging skills in your child or adolescent. \nPart 2 – Exploring and Understanding the Inattentive Brain. Join us to hear about the intricate working model of the ADHD brain\, the benefits of choice and the importance of co-regulation to build self-regulation.
URL:https://www.yorkhills.ca/event/exploring-and-understanding-the-inattentive-brain-winter/
ATTACH;FMTTYPE=image/jpeg:https://www.yorkhills.ca/wp-content/uploads/2023/03/6cab6d3e1d2431c8047b080e9c132359.jpg
END:VEVENT
END:VCALENDAR