BEGIN:VCALENDAR
VERSION:2.0
PRODID:-//York Hills Centre for Children, Youth and Families - ECPv6.15.18//NONSGML v1.0//EN
CALSCALE:GREGORIAN
METHOD:PUBLISH
X-ORIGINAL-URL:https://www.yorkhills.ca
X-WR-CALDESC:Events for York Hills Centre for Children, Youth and Families
REFRESH-INTERVAL;VALUE=DURATION:PT1H
X-Robots-Tag:noindex
X-PUBLISHED-TTL:PT1H
BEGIN:VTIMEZONE
TZID:America/Toronto
BEGIN:DAYLIGHT
TZOFFSETFROM:-0500
TZOFFSETTO:-0400
TZNAME:EDT
DTSTART:20250309T070000
END:DAYLIGHT
BEGIN:STANDARD
TZOFFSETFROM:-0400
TZOFFSETTO:-0500
TZNAME:EST
DTSTART:20251102T060000
END:STANDARD
BEGIN:DAYLIGHT
TZOFFSETFROM:-0500
TZOFFSETTO:-0400
TZNAME:EDT
DTSTART:20260308T070000
END:DAYLIGHT
BEGIN:STANDARD
TZOFFSETFROM:-0400
TZOFFSETTO:-0500
TZNAME:EST
DTSTART:20261101T060000
END:STANDARD
BEGIN:DAYLIGHT
TZOFFSETFROM:-0500
TZOFFSETTO:-0400
TZNAME:EDT
DTSTART:20270314T070000
END:DAYLIGHT
BEGIN:STANDARD
TZOFFSETFROM:-0400
TZOFFSETTO:-0500
TZNAME:EST
DTSTART:20271107T060000
END:STANDARD
END:VTIMEZONE
BEGIN:VEVENT
DTSTART;TZID=America/Toronto:20260421T183000
DTEND;TZID=America/Toronto:20260421T203000
DTSTAMP:20260423T180244
CREATED:20260302T142050Z
LAST-MODIFIED:20260422T033635Z
UID:50654-1776796200-1776803400@www.yorkhills.ca
SUMMARY:Addressing Mental Health Challenges for Children with ASD (Spring)
DESCRIPTION:Addressing Mental Health Challenges for Children and Youth with Autism Spectrum Disorder\n\n\nPresented by: Neil Walker (Autism Consultant) \nAddressing Mental Health Challenges for Children and Youth with ASD \nPeople diagnosed with autism\, are 4-5 times more likely to develop a mental health concern compared to the general population. This webinar will discuss the inherent characteristics of autism that can lead to the development of mental health diagnoses such as Emotional Dysregulation\, Anxiety\, Depression\, Oppositional Defiance Disorder\, Obsessive Compulsive Disorder and Suicidality. The presentation will include strategies for mental illness prevention\, recognizing and diagnosis mental health concerns and methods of adapting evidenced-based mental health treatment approaches for children & youth with autism.
URL:https://www.yorkhills.ca/event/addressing-mental-health-challenges-for-children-with-asd-spring/
ATTACH;FMTTYPE=image/jpeg:https://www.yorkhills.ca/wp-content/uploads/2026/03/be8e22c6c8fafe723530ec4be5aa09d3.jpg
END:VEVENT
END:VCALENDAR