BEGIN:VCALENDAR
VERSION:2.0
PRODID:-//York Hills Centre for Children, Youth and Families - ECPv6.15.18//NONSGML v1.0//EN
CALSCALE:GREGORIAN
METHOD:PUBLISH
X-ORIGINAL-URL:https://www.yorkhills.ca
X-WR-CALDESC:Events for York Hills Centre for Children, Youth and Families
REFRESH-INTERVAL;VALUE=DURATION:PT1H
X-Robots-Tag:noindex
X-PUBLISHED-TTL:PT1H
BEGIN:VTIMEZONE
TZID:America/Toronto
BEGIN:DAYLIGHT
TZOFFSETFROM:-0500
TZOFFSETTO:-0400
TZNAME:EDT
DTSTART:20250309T070000
END:DAYLIGHT
BEGIN:STANDARD
TZOFFSETFROM:-0400
TZOFFSETTO:-0500
TZNAME:EST
DTSTART:20251102T060000
END:STANDARD
BEGIN:DAYLIGHT
TZOFFSETFROM:-0500
TZOFFSETTO:-0400
TZNAME:EDT
DTSTART:20260308T070000
END:DAYLIGHT
BEGIN:STANDARD
TZOFFSETFROM:-0400
TZOFFSETTO:-0500
TZNAME:EST
DTSTART:20261101T060000
END:STANDARD
BEGIN:DAYLIGHT
TZOFFSETFROM:-0500
TZOFFSETTO:-0400
TZNAME:EDT
DTSTART:20270314T070000
END:DAYLIGHT
BEGIN:STANDARD
TZOFFSETFROM:-0400
TZOFFSETTO:-0500
TZNAME:EST
DTSTART:20271107T060000
END:STANDARD
END:VTIMEZONE
BEGIN:VEVENT
DTSTART;TZID=America/Toronto:20260429T183000
DTEND;TZID=America/Toronto:20260429T203000
DTSTAMP:20260423T180316
CREATED:20260302T142056Z
LAST-MODIFIED:20260423T175020Z
UID:50658-1777487400-1777494600@www.yorkhills.ca
SUMMARY:Teen Triple P  Seminar #3 - Getting Teenagers Connected (Spring)
DESCRIPTION:Teen Triple P  Seminar #3 – Getting Teenagers Connected\n\n\nPresented by: Positive Parenting Association Ontario \nThe Triple P Teen Seminar series targets everyday concerns\, such as how to encourage responsible and independent behaviour\, improve family relationships\, and manage concerns at school and/or with friends. Your youth is almost an adult\, or at least that’s how they feel\, and this can make life at home a little strained. Maybe your 13-year-old son grunts instead of speaking to you. Or your 14-year-old daughter wants to go to parties with people you don’t even know. It’s not the you’ve got a “wild” kid\, but you want to make sure that you plan ahead and continue to connect with them during this important time in their lives.  \nSeminar #3 – Getting Teenagers Connected \nHelp your teenager develop good\, supportive friendships. You’ll learn ways to build their confidence\, encourage social skills\, help them to plan and meet commitments and encourage them to take care of others.  \n**This is a 3-part seminar. Participation in all 3 dates is strongly recommended.**
URL:https://www.yorkhills.ca/event/teen-triple-p-seminar-3-getting-teenagers-connected-spring/
ATTACH;FMTTYPE=image/jpeg:https://www.yorkhills.ca/wp-content/uploads/2023/12/ebf1e0073c0eece463c2ba980766f53b-1.jpg
END:VEVENT
END:VCALENDAR