BEGIN:VCALENDAR
VERSION:2.0
PRODID:-//York Hills Centre for Children, Youth and Families - ECPv6.15.18//NONSGML v1.0//EN
CALSCALE:GREGORIAN
METHOD:PUBLISH
X-ORIGINAL-URL:https://www.yorkhills.ca
X-WR-CALDESC:Events for York Hills Centre for Children, Youth and Families
REFRESH-INTERVAL;VALUE=DURATION:PT1H
X-Robots-Tag:noindex
X-PUBLISHED-TTL:PT1H
BEGIN:VTIMEZONE
TZID:America/Toronto
BEGIN:DAYLIGHT
TZOFFSETFROM:-0500
TZOFFSETTO:-0400
TZNAME:EDT
DTSTART:20240310T070000
END:DAYLIGHT
BEGIN:STANDARD
TZOFFSETFROM:-0400
TZOFFSETTO:-0500
TZNAME:EST
DTSTART:20241103T060000
END:STANDARD
BEGIN:DAYLIGHT
TZOFFSETFROM:-0500
TZOFFSETTO:-0400
TZNAME:EDT
DTSTART:20250309T070000
END:DAYLIGHT
BEGIN:STANDARD
TZOFFSETFROM:-0400
TZOFFSETTO:-0500
TZNAME:EST
DTSTART:20251102T060000
END:STANDARD
BEGIN:DAYLIGHT
TZOFFSETFROM:-0500
TZOFFSETTO:-0400
TZNAME:EDT
DTSTART:20260308T070000
END:DAYLIGHT
BEGIN:STANDARD
TZOFFSETFROM:-0400
TZOFFSETTO:-0500
TZNAME:EST
DTSTART:20261101T060000
END:STANDARD
END:VTIMEZONE
BEGIN:VEVENT
DTSTART;TZID=America/Toronto:20251103T183000
DTEND;TZID=America/Toronto:20251215T200000
DTSTAMP:20260424T030035
CREATED:20251022T192223Z
LAST-MODIFIED:20251216T035024Z
UID:44531-1762194600-1765828800@www.yorkhills.ca
SUMMARY:Kuumba Parent Support Group
DESCRIPTION:Bi-Weekly Support Group for Parents and Caregivers of Black Identifying Children and Youth\n\n\nFacilitators: Chantel Simm and Onika Haywood \nParent Support Group for parents of black identifying children and youth. \nBi-weekly Virtual Group (4 sessions) – Open to residents of York Region and South Simcoe \nIn our group you’ll join other parents and caregivers of Black\, African and Caribbean (BAC)children and youth in an open and  respectful space where we talk about real-life challenges and experiences. Led by the Kuumba black therapist team\, this group focuses on: \n\nRaising confident and resilient black children at home and school. \nManaging stress and avoiding burnout for both you and your child. \nSetting boundaries and fostering positive discipline (for both non and neurodivergent children) \nand more…\n\nWe know that our culture\, values\, and identity shape how you see the world – and we honour that. Join this group with other parents and caregivers to connect\, share experiences and gain tools to support your parenting journey.
URL:https://www.yorkhills.ca/event/kuumba-parent-support-group/
ATTACH;FMTTYPE=image/jpeg:https://www.yorkhills.ca/wp-content/uploads/2025/10/696653931e23f346f479a987bdde9b5a.jpg
END:VEVENT
BEGIN:VEVENT
DTSTART;TZID=America/Toronto:20251202T183000
DTEND;TZID=America/Toronto:20251202T203000
DTSTAMP:20260424T030035
CREATED:20250805T124446Z
LAST-MODIFIED:20251203T025133Z
UID:40898-1764700200-1764707400@www.yorkhills.ca
SUMMARY:Talking To Your Child About Their Autism Diagnosis (Fall)
DESCRIPTION:Talking To Your Child About Their Autism Diagnosis\n\n\nPresented by: Neil Walker – Autism Consultant  \nMany parents face the important question of if\, when\, and how to talk to their child about an autism diagnosis. This insightful webinar is designed to support families through these meaningful conversations. \nParticipants will learn foundational concepts\, recommended communication strategies\, and age-appropriate\, empowering language to help children understand their diagnosis in a positive and constructive way. The session will also highlight trusted professional resources and real-world examples to guide families in creating a personalized\, thoughtful plan. \nBy the end of the webinar\, parents and caregivers will feel more confident and better equipped to approach this conversation in a way that supports their child’s self-awareness\, self-esteem\, and well-being.
URL:https://www.yorkhills.ca/event/talking-to-your-child-about-their-autism-diagnosis-fall/
ATTACH;FMTTYPE=image/jpeg:https://www.yorkhills.ca/wp-content/uploads/2025/08/0429af17cbee57e5a4c425b356374915.jpg
END:VEVENT
END:VCALENDAR