BEGIN:VCALENDAR
VERSION:2.0
PRODID:-//York Hills Centre for Children, Youth and Families - ECPv6.15.18//NONSGML v1.0//EN
CALSCALE:GREGORIAN
METHOD:PUBLISH
X-WR-CALNAME:York Hills Centre for Children, Youth and Families
X-ORIGINAL-URL:https://www.yorkhills.ca
X-WR-CALDESC:Events for York Hills Centre for Children, Youth and Families
REFRESH-INTERVAL;VALUE=DURATION:PT1H
X-Robots-Tag:noindex
X-PUBLISHED-TTL:PT1H
BEGIN:VTIMEZONE
TZID:America/Toronto
BEGIN:DAYLIGHT
TZOFFSETFROM:-0500
TZOFFSETTO:-0400
TZNAME:EDT
DTSTART:20250309T070000
END:DAYLIGHT
BEGIN:STANDARD
TZOFFSETFROM:-0400
TZOFFSETTO:-0500
TZNAME:EST
DTSTART:20251102T060000
END:STANDARD
BEGIN:DAYLIGHT
TZOFFSETFROM:-0500
TZOFFSETTO:-0400
TZNAME:EDT
DTSTART:20260308T070000
END:DAYLIGHT
BEGIN:STANDARD
TZOFFSETFROM:-0400
TZOFFSETTO:-0500
TZNAME:EST
DTSTART:20261101T060000
END:STANDARD
BEGIN:DAYLIGHT
TZOFFSETFROM:-0500
TZOFFSETTO:-0400
TZNAME:EDT
DTSTART:20270314T070000
END:DAYLIGHT
BEGIN:STANDARD
TZOFFSETFROM:-0400
TZOFFSETTO:-0500
TZNAME:EST
DTSTART:20271107T060000
END:STANDARD
END:VTIMEZONE
BEGIN:VEVENT
DTSTART;TZID=America/Toronto:20260119T183000
DTEND;TZID=America/Toronto:20260119T203000
DTSTAMP:20260423T214938
CREATED:20251201T145052Z
LAST-MODIFIED:20260120T040602Z
UID:46396-1768847400-1768854600@www.yorkhills.ca
SUMMARY:Triple P Seminar #1 - The Power of Positive Parenting (Winter)
DESCRIPTION:The Power of Positive Parenting\n\n\nPresented by: Positive Parenting Association Ontario \nPower of Positive Parenting seminars are a  series of three workshops for parents of children birth to 12 years of age. Kids don’t come with an instruction manual! Many familiar parenting problems have very simple solutions that can be applied with some effort and focus.  Triple P’s easy-to-understand and practical strategies have been shown to help families in all types of situations.  \nSeminar # 1 – The Power of Positive Parenting  \nThis seminar focuses on : ensuring a safe engaging environment for children by: creating a positive learning environment\, using assertive discipline\, having realistic expectations and taking care of yourself as a parent.   \n**This is a 3-part seminar. Participation in all 3 dates is strongly recommended.**
URL:https://www.yorkhills.ca/event/triple-p-seminar-1-the-power-of-positive-parenting-winter/
ATTACH;FMTTYPE=image/jpeg:https://www.yorkhills.ca/wp-content/uploads/2025/12/af11ad9a10ff6dbbec1c4b2b05059cf1.jpg
END:VEVENT
BEGIN:VEVENT
DTSTART;TZID=America/Toronto:20260121T183000
DTEND;TZID=America/Toronto:20260121T200000
DTSTAMP:20260423T214938
CREATED:20251201T145055Z
LAST-MODIFIED:20260122T010513Z
UID:46398-1769020200-1769025600@www.yorkhills.ca
SUMMARY:Learning To Pay Attention (Winter)
DESCRIPTION:Unwrapping the Gifts of a Distracted Mind – Part 1  Learning to Pay Attention\n\n\nPresented by: Tracey Butt and Shannon Miller (PATH Program) \nThree-part series on ADHD \n \n“Unwrapping the gifts of a distracted mind” a series of webinars to help you better understand the person you love. The more you know\, the better able you will be equipped to build on the strengths and unique traits\, as well as tackle areas of challenge or lagging skills in your child or adolescent. \nPart 1 – Learning to Pay Attention. Come to this introductory webinar on what ADHD is and what it is not. Learn about the three pillars of ADHD and their potential outcomes\, and how to respond to your neurodivergent child empathically.
URL:https://www.yorkhills.ca/event/learning-to-pay-attention-winter/
ATTACH;FMTTYPE=image/jpeg:https://www.yorkhills.ca/wp-content/uploads/2023/03/b5bfebeecf8cbc78cf74e08b2618a773.jpg
END:VEVENT
BEGIN:VEVENT
DTSTART;TZID=America/Toronto:20260126T183000
DTEND;TZID=America/Toronto:20260126T203000
DTSTAMP:20260423T214938
CREATED:20251201T145056Z
LAST-MODIFIED:20260127T040641Z
UID:46399-1769452200-1769459400@www.yorkhills.ca
SUMMARY:Triple P Seminar #2 - Raising Confident Capable Children (Winter)
DESCRIPTION:Triple P Seminar #2 – Raising Confident Competent Children\n\n\nPresented by: Positive Parenting Association Ontario \nPower of Positive Parenting seminars are a  series of three workshops for parents of children birth to 12 years of age. Kids don’t come with an instruction manual! Many familiar parenting problems have very simple solutions that can be applied with some effort and focus.  Triple P’s easy-to-understand and practical strategies have been shown to help families in all types of situations.  \nSeminar # 2 – Raising Confident and Competent Children  \nThis seminar focuses on encouraging respect and cooperation\, learning to be independent\, developing healthy self esteem and learning how to be a good problem solver.  \n**This is a 3-part seminar. Participation in all 3 dates is strongly recommended.**
URL:https://www.yorkhills.ca/event/triple-p-seminar-2-raising-confident-capable-children-winter/
ATTACH;FMTTYPE=image/jpeg:https://www.yorkhills.ca/wp-content/uploads/2025/12/348b18741a79d8e54df0dc4a8c553f5d.jpg
END:VEVENT
BEGIN:VEVENT
DTSTART;TZID=America/Toronto:20260127T183000
DTEND;TZID=America/Toronto:20260127T203000
DTSTAMP:20260423T214938
CREATED:20251201T145058Z
LAST-MODIFIED:20260128T042013Z
UID:46401-1769538600-1769545800@www.yorkhills.ca
SUMMARY:Raising a Child with Autism Spectrum Disorder (Winter)
DESCRIPTION:A wholistic framework for family life\n\n\nPresented by: Neil Walker (ASD Consultant) \nThis workshop will provide parents and other caregivers and the professionals who support them with a framework for helping children with ASD achieve their potential. Based on the F words of Child Development\, created by CANCHILD Research Centre at McMaster University\, the 6 F words: Function\, Family\, Fitness\, Fun\, Friends and Future\, can help maintain focus on important wholistic aspects of support for their child with ASD and the whole family.
URL:https://www.yorkhills.ca/event/raising-a-child-with-autism-spectrum-disorder-winter/
ATTACH;FMTTYPE=image/jpeg:https://www.yorkhills.ca/wp-content/uploads/2025/12/8007af711b75deba460de935ea5ec19f.jpg
END:VEVENT
END:VCALENDAR