BEGIN:VCALENDAR
VERSION:2.0
PRODID:-//York Hills Centre for Children, Youth and Families - ECPv6.15.18//NONSGML v1.0//EN
CALSCALE:GREGORIAN
METHOD:PUBLISH
X-WR-CALNAME:York Hills Centre for Children, Youth and Families
X-ORIGINAL-URL:https://www.yorkhills.ca
X-WR-CALDESC:Events for York Hills Centre for Children, Youth and Families
REFRESH-INTERVAL;VALUE=DURATION:PT1H
X-Robots-Tag:noindex
X-PUBLISHED-TTL:PT1H
BEGIN:VTIMEZONE
TZID:America/Toronto
BEGIN:DAYLIGHT
TZOFFSETFROM:-0500
TZOFFSETTO:-0400
TZNAME:EDT
DTSTART:20250309T070000
END:DAYLIGHT
BEGIN:STANDARD
TZOFFSETFROM:-0400
TZOFFSETTO:-0500
TZNAME:EST
DTSTART:20251102T060000
END:STANDARD
BEGIN:DAYLIGHT
TZOFFSETFROM:-0500
TZOFFSETTO:-0400
TZNAME:EDT
DTSTART:20260308T070000
END:DAYLIGHT
BEGIN:STANDARD
TZOFFSETFROM:-0400
TZOFFSETTO:-0500
TZNAME:EST
DTSTART:20261101T060000
END:STANDARD
BEGIN:DAYLIGHT
TZOFFSETFROM:-0500
TZOFFSETTO:-0400
TZNAME:EDT
DTSTART:20270314T070000
END:DAYLIGHT
BEGIN:STANDARD
TZOFFSETFROM:-0400
TZOFFSETTO:-0500
TZNAME:EST
DTSTART:20271107T060000
END:STANDARD
END:VTIMEZONE
BEGIN:VTIMEZONE
TZID:America/New_York
BEGIN:DAYLIGHT
TZOFFSETFROM:-0500
TZOFFSETTO:-0400
TZNAME:EDT
DTSTART:20250309T070000
END:DAYLIGHT
BEGIN:STANDARD
TZOFFSETFROM:-0400
TZOFFSETTO:-0500
TZNAME:EST
DTSTART:20251102T060000
END:STANDARD
BEGIN:DAYLIGHT
TZOFFSETFROM:-0500
TZOFFSETTO:-0400
TZNAME:EDT
DTSTART:20260308T070000
END:DAYLIGHT
BEGIN:STANDARD
TZOFFSETFROM:-0400
TZOFFSETTO:-0500
TZNAME:EST
DTSTART:20261101T060000
END:STANDARD
BEGIN:DAYLIGHT
TZOFFSETFROM:-0500
TZOFFSETTO:-0400
TZNAME:EDT
DTSTART:20270314T070000
END:DAYLIGHT
BEGIN:STANDARD
TZOFFSETFROM:-0400
TZOFFSETTO:-0500
TZNAME:EST
DTSTART:20271107T060000
END:STANDARD
END:VTIMEZONE
BEGIN:VEVENT
DTSTART;TZID=America/Toronto:20260304T183000
DTEND;TZID=America/Toronto:20260304T203000
DTSTAMP:20260423T180754
CREATED:20251201T145109Z
LAST-MODIFIED:20260305T042025Z
UID:46412-1772649000-1772656200@www.yorkhills.ca
SUMMARY:Many Faces of Anxiety (Winter)
DESCRIPTION:Many Faces of Anxiety – Understanding and supporting children who live with worry\n\n\nPresented by: Amy Epstein and Kritika Mehta (Child and Family Therapists) \nThe goal of this workshop is to provide valuable information to support caregivers of children and adolescents who experience anxiety. Topics include: Understanding different types of anxiety\, causes\, how the mind and brain are connected\, coping strategies for caregivers; and what caregivers can do to help.
URL:https://www.yorkhills.ca/event/many-faces-of-anxiety-winter/
ATTACH;FMTTYPE=image/jpeg:https://www.yorkhills.ca/wp-content/uploads/2025/12/68eb1b4790d3ce4cf2cbcba8a812e611.jpg
END:VEVENT
BEGIN:VEVENT
DTSTART;TZID=America/New_York:20260305T183000
DTEND;TZID=America/New_York:20260305T200000
DTSTAMP:20260423T180755
CREATED:20260213T143446Z
LAST-MODIFIED:20260306T033526Z
UID:49202-1772735400-1772740800@www.yorkhills.ca
SUMMARY:Speak Up! Advocating For Your Child And Your Family At York Hills (Winter)
DESCRIPTION:Speak Up! Advocating For Your Child And Your Family At York Hills\n\n\nPresented by: Family Advisory Committee and York Hills \nHave you ever wanted to ask a question but been unsure if it was a good idea? Have you wanted to speak up and challenge something within York Hills or the children’s mental health system but are just not sure what to say? In this webinar\, co-developed by our Family Advisory Members and York Hills staff\, we will discuss your rights and give practical tips and guidance around advocating for the experience that you feel that you need.
URL:https://www.yorkhills.ca/event/speak-up-advocating-for-your-child-and-your-family-at-york-hills-winter/
ATTACH;FMTTYPE=image/jpeg:https://www.yorkhills.ca/wp-content/uploads/2025/07/e42427bf400c29ae8dc5be6a9107e5d5.jpg
END:VEVENT
BEGIN:VEVENT
DTSTART;TZID=America/Toronto:20260325T183000
DTEND;TZID=America/Toronto:20260325T200000
DTSTAMP:20260423T180755
CREATED:20251201T145115Z
LAST-MODIFIED:20260325T233657Z
UID:46416-1774463400-1774468800@www.yorkhills.ca
SUMMARY:Parenting a Child with Attention Deficit Disorder (Winter)
DESCRIPTION:Unwrapping the Gifts of a Distracted Mind – Part 3  Parenting a Child with Attention Deficit Disorder\n\n\nPresented by: Sarah Clarke and Shannon Miller (PATH Program) \nThree-part series on ADHD \n \n“Unwrapping the gifts of a distracted mind” a series of webinars to help you better understand the person you love. The more you know\, the better able you will be equipped to build on the strengths and unique traits\, as well as tackle areas of challenge or lagging skills in your child or adolescent. \nPart 3 – Parenting a Child with Attention Deficit Disorder. Do you find yourself wavering on what to do in a given situation\, and reverting back to extremes? This webinar will help bring back the balance of understanding and parenting from an attuned perspective.
URL:https://www.yorkhills.ca/event/parenting-a-child-with-attention-deficit-disorder-winter/
ATTACH;FMTTYPE=image/jpeg:https://www.yorkhills.ca/wp-content/uploads/2023/03/1da3eef625b3f7c4a391e49f3462fb06.jpg
END:VEVENT
BEGIN:VEVENT
DTSTART;TZID=America/Toronto:20260331T183000
DTEND;TZID=America/Toronto:20260331T203000
DTSTAMP:20260423T180755
CREATED:20251201T145117Z
LAST-MODIFIED:20260401T033532Z
UID:46418-1774981800-1774989000@www.yorkhills.ca
SUMMARY:Understanding and Managing Sensory Sensitivity with ASD (Winter)
DESCRIPTION:Understanding and Managing Sensory Sensitivity in Children/Youth Living with Autism Spectrum Disorder\n\n\nPresented by: Neil Walker (Autism Consultant) \nSensory sensitivity is recognized as a significant diagnostic criterion for Autism Spectrum Disorder (ASD). Hyper or hypo reactivity to sensory experiences can produce severe challenges in coping with sensory aspects of the environment for persons with ASD. This webinar will review sensory differences in senses such as hearing\, smell\, taste\, vision and touch. It will also explore specific senses such as vestibular (inner ear and balance related)\, proprioception (self management of body in space) and interoception (internal state of body such as heart beat\, hunger etc.) and the resulting impacts on external behaviour. Behaviour intervention strategies that accommodate sensory needs will be shared.
URL:https://www.yorkhills.ca/event/understanding-and-managing-sensory-sensitivity-with-asd-winter/
ATTACH;FMTTYPE=image/jpeg:https://www.yorkhills.ca/wp-content/uploads/2025/12/33c69bb86304c72a89f0a0535cc7a4b0.jpg
END:VEVENT
END:VCALENDAR